BEGIN:VCALENDAR
VERSION:2.0
PRODID:icalendar-ruby
CALSCALE:GREGORIAN
BEGIN:VEVENT
DTSTAMP:20260421T114914Z
UID:26bf2269-ce57-4560-b686-691a47f3b5ef
DTSTART;VALUE=DATE:20260514
DESCRIPTION:Property ID# 606531\, Locatoin: Auction Rooms\, 247 Cameron Roa
 d\, Tauranga. Unless sold prior\, Time: 1:00PM
SUMMARY:Auction for 28B Western Road
END:VEVENT
END:VCALENDAR
