BEGIN:VCALENDAR
VERSION:2.0
PRODID:icalendar-ruby
CALSCALE:GREGORIAN
BEGIN:VEVENT
DTSTAMP:20260423T080823Z
UID:e46b76d8-38ca-42f3-937e-426ec285c3ab
DTSTART;VALUE=DATE:20260305
DESCRIPTION:Property ID# 603897\, Locatoin: The Promenade Takapuna\, Time: 
 10:00AM
SUMMARY:Auction for 
END:VEVENT
END:VCALENDAR
