BEGIN:VCALENDAR
VERSION:2.0
PRODID:icalendar-ruby
CALSCALE:GREGORIAN
BEGIN:VEVENT
DTSTAMP:20260421T115604Z
UID:3e1cffc6-0d4d-46aa-b16f-ee5aafb11def
DTSTART;VALUE=DATE:20250501
DESCRIPTION:Property ID# 591516\, Locatoin: Auction Rooms\, 247 Cameron Roa
 d\, Tauranga. Unless sold prior\, Time: 1:00PM
SUMMARY:Auction for 
END:VEVENT
END:VCALENDAR
