BEGIN:VCALENDAR
VERSION:2.0
PRODID:icalendar-ruby
CALSCALE:GREGORIAN
BEGIN:VEVENT
DTSTAMP:20260423T091400Z
UID:55f09b49-8d89-49ca-94e3-80a8c635d55d
DTSTART;VALUE=DATE:20250130
DESCRIPTION:Property ID# 586372\, Locatoin: Auction Rooms\, 247 Cameron Roa
 d\, Tauranga. Unless sold prior\, Time: 1:00PM
SUMMARY:Auction for 
END:VEVENT
END:VCALENDAR
