BEGIN:VCALENDAR
VERSION:2.0
PRODID:icalendar-ruby
CALSCALE:GREGORIAN
BEGIN:VEVENT
DTSTAMP:20260420T085802Z
UID:e09878d1-7c46-43c7-9a30-2038cb6fa493
DTSTART;VALUE=DATE:20220412
DESCRIPTION:Property ID# 532425\, Locatoin: WELLINGTON\, Time: 12:00PM
SUMMARY:Auction for 
END:VEVENT
END:VCALENDAR
