BEGIN:VCALENDAR
VERSION:2.0
PRODID:icalendar-ruby
CALSCALE:GREGORIAN
BEGIN:VEVENT
DTSTAMP:20260422T080830Z
UID:a9515bf6-60e9-41cc-8bf3-9de49c62a024
DTSTART;VALUE=DATE:20211111
DESCRIPTION:Property ID# 520381\, Time: 11:00AM
SUMMARY:Auction for 
END:VEVENT
END:VCALENDAR
