BEGIN:VCALENDAR
VERSION:2.0
PRODID:icalendar-ruby
CALSCALE:GREGORIAN
BEGIN:VEVENT
DTSTAMP:20260422T092706Z
UID:a6ac120c-4f1e-4dfa-b04e-6cd8510c86e7
DTSTART;VALUE=DATE:20210824
DESCRIPTION:Property ID# 514970\, Locatoin: WELLINGTON\, Time: 12:00PM
SUMMARY:Auction for 
END:VEVENT
END:VCALENDAR
