BEGIN:VCALENDAR
VERSION:2.0
PRODID:icalendar-ruby
CALSCALE:GREGORIAN
BEGIN:VEVENT
DTSTAMP:20260422T081200Z
UID:f10fd191-9868-4eb1-8387-1e96a455ff6a
DTSTART;VALUE=DATE:20210629
DESCRIPTION:Property ID# 511658\, Locatoin: WELLINGTON\, Time: 12:00PM
SUMMARY:Auction for 
END:VEVENT
END:VCALENDAR
