BEGIN:VCALENDAR
VERSION:2.0
PRODID:icalendar-ruby
CALSCALE:GREGORIAN
BEGIN:VEVENT
DTSTAMP:20260422T081401Z
UID:5289545d-0f50-4907-81a8-f615f3fc2970
DTSTART;VALUE=DATE:20201209
DESCRIPTION:Property ID# 497563\, Locatoin: 778 Manukau Rd\, Time: 12:00PM
SUMMARY:Auction for 
END:VEVENT
END:VCALENDAR
