BEGIN:VCALENDAR
VERSION:2.0
PRODID:icalendar-ruby
CALSCALE:GREGORIAN
BEGIN:VEVENT
DTSTAMP:20260421T094701Z
UID:dd588f42-537f-4217-8e9e-0c1461d26203
DTSTART;VALUE=DATE:20201202
DESCRIPTION:Property ID# 495405\, Locatoin: 30 Bay Road\, Kilbirnie\, Time:
  12:00PM
SUMMARY:Auction for 
END:VEVENT
END:VCALENDAR
