BEGIN:VCALENDAR
VERSION:2.0
PRODID:icalendar-ruby
CALSCALE:GREGORIAN
BEGIN:VEVENT
DTSTAMP:20260420T130108Z
UID:fc69cc77-7c04-4a3d-9861-b43a3ec4b6e4
DTSTART;VALUE=DATE:20200923
DESCRIPTION:Property ID# 489304\, Locatoin: 778 Manukau Road\, Royal Oak\, 
 Auckland\, Time: 12:00PM
SUMMARY:Auction for 
END:VEVENT
END:VCALENDAR
