BEGIN:VCALENDAR
VERSION:2.0
PRODID:icalendar-ruby
CALSCALE:GREGORIAN
BEGIN:VEVENT
DTSTAMP:20260421T110316Z
UID:c932037d-41fa-4e8c-b700-9d453f2cddb3
DTSTART;VALUE=DATE:20191115
DESCRIPTION:Property ID# 464427\, Locatoin: Onsite at 64 Grammer Road\, Kat
 ikati\, Time: 1:00PM
SUMMARY:Auction for 
END:VEVENT
END:VCALENDAR
