BEGIN:VCALENDAR
VERSION:2.0
PRODID:icalendar-ruby
CALSCALE:GREGORIAN
BEGIN:VEVENT
DTSTAMP:20260422T080716Z
UID:06ff571c-85f2-4c3a-9353-82512ac9a169
DTSTART;VALUE=DATE:20200213
DESCRIPTION:Property ID# 458579\, Locatoin: 50 Remuera Road\, Remuera\, Tim
 e: 10:00AM
SUMMARY:Auction for 
END:VEVENT
END:VCALENDAR
